BEGIN:VCALENDAR
VERSION:2.0
PRODID:-//wp-events-plugin.com//6.6.4.4//EN
BEGIN:VEVENT
UID:13@saj-mutzig.alsace
DTSTART;TZID=Europe/Paris:20260221T140000
DTEND;TZID=Europe/Paris:20260221T153000
DTSTAMP:20260214T103750Z
URL:https://www.saj-mutzig.alsace/events/cours-de-taille-sur-fruitiers-a-m
 utzig/
SUMMARY:Cours de taille sur fruitiers à Mutzig
DESCRIPTION:Cours de taille sur fruitiers à Mutzig\, 33 r du Mal Foch\, Gr
 atuit\nPommier haute-tige et pilars de pommiers et poiriers
END:VEVENT
BEGIN:VTIMEZONE
TZID:Europe/Paris
X-LIC-LOCATION:Europe/Paris
BEGIN:STANDARD
DTSTART:20251026T020000
TZOFFSETFROM:+0200
TZOFFSETTO:+0100
TZNAME:CET
END:STANDARD
END:VTIMEZONE
END:VCALENDAR